BEGIN:VCALENDAR
VERSION:2.0
PRODID:-//RAD_KTM - ECPv6.10.0//NONSGML v1.0//EN
CALSCALE:GREGORIAN
METHOD:PUBLISH
X-WR-CALNAME:RAD_KTM
X-ORIGINAL-URL:https://radktm.co.za
X-WR-CALDESC:Events for RAD_KTM
REFRESH-INTERVAL;VALUE=DURATION:PT1H
X-Robots-Tag:noindex
X-PUBLISHED-TTL:PT1H
BEGIN:VTIMEZONE
TZID:Africa/Johannesburg
BEGIN:STANDARD
TZOFFSETFROM:+0200
TZOFFSETTO:+0200
TZNAME:SAST
DTSTART:20220101T000000
END:STANDARD
END:VTIMEZONE
BEGIN:VEVENT
DTSTART;TZID=Africa/Johannesburg:20220424T080000
DTEND;TZID=Africa/Johannesburg:20220424T130000
DTSTAMP:20260423T120135
CREATED:20220405T194630Z
LAST-MODIFIED:20240501T064957Z
UID:9952-1650787200-1650805200@radktm.co.za
SUMMARY:24 April 2022 - Social Sunday Breakfast Run
DESCRIPTION:Date: Sunday\, 24 April 2022\nTime: 08:00 AM to leave at 08:30 AM\nMeet : At RAD_KTM\nDestination: Mulligan’s Restaurant (Harties)\nLet’s be ride-ready and arrive with a full tank of fuel!\n\nTel: +27 11 234 5007\nEmail: Marketing@radmoto.co.za\nWebsite: www.radmoto.co.za\n1 Wall street\, Corner Rivonia & Witkoppen Road\, Sandton
URL:https://radktm.co.za/event/24-april-2022-social-sunday-breakfast-run/
LOCATION:Mulligans Restaurant\, R560\, Mount Amanzi Road\, Hartebeespoort Dam\, Gauteng\, 0257\, South Africa
CATEGORIES:Breakfast Run
ATTACH;FMTTYPE=image/png:https://radktm.co.za/wp-content/uploads/2022/04/2022-04-05_Breakfast-Run-24-AprilEvent_Cover2.png
ORGANIZER;CN="RAD_KTM":MAILTO:marketing@radmoto.co.za
END:VEVENT
END:VCALENDAR