BEGIN:VCALENDAR
VERSION:2.0
PRODID:-//RAD_KTM - ECPv6.10.0//NONSGML v1.0//EN
CALSCALE:GREGORIAN
METHOD:PUBLISH
X-WR-CALNAME:RAD_KTM
X-ORIGINAL-URL:https://radktm.co.za
X-WR-CALDESC:Events for RAD_KTM
REFRESH-INTERVAL;VALUE=DURATION:PT1H
X-Robots-Tag:noindex
X-PUBLISHED-TTL:PT1H
BEGIN:VTIMEZONE
TZID:Africa/Johannesburg
BEGIN:STANDARD
TZOFFSETFROM:+0200
TZOFFSETTO:+0200
TZNAME:SAST
DTSTART:20240101T000000
END:STANDARD
END:VTIMEZONE
BEGIN:VEVENT
DTSTART;TZID=Africa/Johannesburg:20240303T073000
DTEND;TZID=Africa/Johannesburg:20240303T120000
DTSTAMP:20260421T230122
CREATED:20240224T123548Z
LAST-MODIFIED:20240226T172240Z
UID:15295-1709451000-1709467200@radktm.co.za
SUMMARY:#RAD Breakfast Run
DESCRIPTION:𝐽𝑜𝑖𝑛 𝑢𝑠 𝑓𝑜𝑟 𝑎 #𝑅𝐴𝐷 𝐵𝑟𝑒𝑎𝑘𝑓𝑎𝑠𝑡 𝑅𝑢𝑛\n𝗗𝗮𝘁𝗲 : Sunday\, 3 March 2024\n𝗠𝗲𝗲𝘁: RAD_KTM (C/O Rivonia & Witkoppen)\n@ 7:30 AM – Leaving at 8 AM\n𝗙𝗶𝗻𝗮𝗹 𝗗𝗲𝘀𝘁𝗶𝗻𝗮𝘁𝗶𝗼𝗻: Harries Pancakes\, Cullinan\nALL MOTORCYCLES WELCOME!!\n\nPlease RSVP @ 078 097 4964 \nSee less
URL:https://radktm.co.za/event/rad-breakfast-run-4/
LOCATION:RAD_KTM\, 1 Wall street\, Sunninghill\, Rivonia\, Sandton\, Gauteng\, 2157\, South Africa
CATEGORIES:Breakfast Run
ATTACH;FMTTYPE=image/png:https://radktm.co.za/wp-content/uploads/2024/02/20240303_-RAD-Breakfast-Run-Post.png
END:VEVENT
END:VCALENDAR