BEGIN:VCALENDAR
VERSION:2.0
PRODID:-//RAD_KTM - ECPv6.10.0//NONSGML v1.0//EN
CALSCALE:GREGORIAN
METHOD:PUBLISH
X-WR-CALNAME:RAD_KTM
X-ORIGINAL-URL:https://radktm.co.za
X-WR-CALDESC:Events for RAD_KTM
REFRESH-INTERVAL;VALUE=DURATION:PT1H
X-Robots-Tag:noindex
X-PUBLISHED-TTL:PT1H
BEGIN:VTIMEZONE
TZID:Africa/Johannesburg
BEGIN:STANDARD
TZOFFSETFROM:+0200
TZOFFSETTO:+0200
TZNAME:SAST
DTSTART:20220101T000000
END:STANDARD
END:VTIMEZONE
BEGIN:VEVENT
DTSTART;TZID=Africa/Johannesburg:20220529T080000
DTEND;TZID=Africa/Johannesburg:20220529T130000
DTSTAMP:20260423T120412
CREATED:20220505T124730Z
LAST-MODIFIED:20220522T161916Z
UID:10200-1653811200-1653829200@radktm.co.za
SUMMARY:Social Sunday - Breakfast Run 29 May 2022
DESCRIPTION:Date: Sunday\, 29 May 2022\nTime: 08:00 AM to leave at 08:30 AM\nMeet : At RAD_KTM\nDestination: Barbados Restaurant (Harties)\nLet’s be ride-ready and arrive with a full tank of fuel!\n\nTel: +27 11 234 5007\nEmail: Marketing@radmoto.co.za\nWebsite: www.radktm.co.za\n1 Wall street\, Corner Rivonia & Witkoppen Road\, Sandton
URL:https://radktm.co.za/event/social-sunday-breakfast-run-29-may-2022/
LOCATION:Barbados Bar & Grill\, 2 Scott Street\, Schoemansville\, Hartbeespoort\, Gauteng\, 0216\, South Africa
CATEGORIES:Breakfast Run
ATTACH;FMTTYPE=image/png:https://radktm.co.za/wp-content/uploads/2022/05/2022-05-05_Breakfast-Run-29-May-2022_2.png
ORGANIZER;CN="RAD_KTM":MAILTO:marketing@radmoto.co.za
END:VEVENT
END:VCALENDAR