BEGIN:VCALENDAR
VERSION:2.0
PRODID:-//RAD_KTM - ECPv6.10.0//NONSGML v1.0//EN
CALSCALE:GREGORIAN
METHOD:PUBLISH
X-ORIGINAL-URL:https://radktm.co.za
X-WR-CALDESC:Events for RAD_KTM
REFRESH-INTERVAL;VALUE=DURATION:PT1H
X-Robots-Tag:noindex
X-PUBLISHED-TTL:PT1H
BEGIN:VTIMEZONE
TZID:Africa/Johannesburg
BEGIN:STANDARD
TZOFFSETFROM:+0200
TZOFFSETTO:+0200
TZNAME:SAST
DTSTART:20220101T000000
END:STANDARD
END:VTIMEZONE
BEGIN:VEVENT
DTSTART;TZID=Africa/Johannesburg:20220626T080000
DTEND;TZID=Africa/Johannesburg:20220626T130000
DTSTAMP:20260423T102642
CREATED:20220606T235344Z
LAST-MODIFIED:20220617T120740Z
UID:10405-1656230400-1656248400@radktm.co.za
SUMMARY:#SocialSunday - Breakfast Run 26 June 2022
DESCRIPTION:Click Here to RSVP\nDate: Sunday\, 26 June 2022\nTime: 08:00 AM to leave at 08:30 AM\nMeet: At RAD_KTM\nDestination: Adler’s Restaurant (Heidelberg)\nLet’s be ride-ready and arrive with a full tank of fuel!\n\nTel: +27 11 234 5007\nEmail: Marketing@radmoto.co.za\nWebsite: www.radktm.co.za\n1 Wall street\, Corner Rivonia & Witkoppen Road\, Sandton\n\nClick Here to RSVP
URL:https://radktm.co.za/event/social-sunday-breakfast-run-26-june-2022/
LOCATION:Adler’s Restaurant\, Voortrekker Sreet\, Heidelberg\, Gauteng\, 0084\, South Africa
CATEGORIES:Breakfast Run,Social Ride
ATTACH;FMTTYPE=image/png:https://radktm.co.za/wp-content/uploads/2022/06/2022-06-07_Breakfast-Run-26-June-2022_2-1.png
ORGANIZER;CN="RAD_KTM":MAILTO:marketing@radmoto.co.za
END:VEVENT
END:VCALENDAR