BEGIN:VCALENDAR
VERSION:2.0
PRODID:-//RAD_KTM - ECPv6.10.0//NONSGML v1.0//EN
CALSCALE:GREGORIAN
METHOD:PUBLISH
X-WR-CALNAME:RAD_KTM
X-ORIGINAL-URL:https://radktm.co.za
X-WR-CALDESC:Events for RAD_KTM
REFRESH-INTERVAL;VALUE=DURATION:PT1H
X-Robots-Tag:noindex
X-PUBLISHED-TTL:PT1H
BEGIN:VTIMEZONE
TZID:Africa/Johannesburg
BEGIN:STANDARD
TZOFFSETFROM:+0200
TZOFFSETTO:+0200
TZNAME:SAST
DTSTART:20220101T000000
END:STANDARD
END:VTIMEZONE
BEGIN:VEVENT
DTSTART;TZID=Africa/Johannesburg:20221204T073000
DTEND;TZID=Africa/Johannesburg:20221204T130000
DTSTAMP:20260422T234721
CREATED:20221125T141839Z
LAST-MODIFIED:20221125T142741Z
UID:12322-1670139000-1670158800@radktm.co.za
SUMMARY:#SocialSunday - Breakfast Run 4 December 2022
DESCRIPTION:Click Here to RSVP\n#SocialSunday Breakfast Run\nJoin RAD_KTM for a relaxed ride to Blackhorse Brewery where we will enjoy breakfast and #SocialSunday fun. \nDate: Sunday\, 04 December 2022\nStarting Point: RAD_KTM\nTime: 07:30 AM to leave at 08:00 AM\nDestination:  Blackhorse Brewery (Magaliesburg) \nMeet: At RAD_KTM \nLet’s be ride-ready and arrive with a full tank of fuel!\nAll Motorcycle Brands are welcome. \nTel: +27 78 097 4964\nEmail: marketing@radmoto.co.za\n1 Wall street\, Corner Rivonia & Witkoppen Road\, Sandton \n\nClick Here to RSVP
URL:https://radktm.co.za/event/social-sunday-breakfast-run-4-december/
LOCATION:Black Horse Brewery\, 32 Seekoeihoek / Bekker Schools Road\, Magaliesburg\, Gauteng\, 1791\, South Africa
CATEGORIES:Breakfast Run,Social Ride
ATTACH;FMTTYPE=image/png:https://radktm.co.za/wp-content/uploads/2022/11/2022-11-04_Breakfast-Run-04-December-2022-Black-Horse-Restaurant-banner.png
ORGANIZER;CN="RAD_KTM":MAILTO:marketing@radmoto.co.za
END:VEVENT
END:VCALENDAR