BEGIN:VCALENDAR
VERSION:2.0
PRODID:-//RAD_KTM - ECPv6.10.0//NONSGML v1.0//EN
CALSCALE:GREGORIAN
METHOD:PUBLISH
X-WR-CALNAME:RAD_KTM
X-ORIGINAL-URL:https://radktm.co.za
X-WR-CALDESC:Events for RAD_KTM
REFRESH-INTERVAL;VALUE=DURATION:PT1H
X-Robots-Tag:noindex
X-PUBLISHED-TTL:PT1H
BEGIN:VTIMEZONE
TZID:Africa/Johannesburg
BEGIN:STANDARD
TZOFFSETFROM:+0200
TZOFFSETTO:+0200
TZNAME:SAST
DTSTART:20230101T000000
END:STANDARD
END:VTIMEZONE
BEGIN:VEVENT
DTSTART;TZID=Africa/Johannesburg:20230820T080000
DTEND;TZID=Africa/Johannesburg:20230820T160000
DTSTAMP:20260422T120300
CREATED:20230805T191705Z
LAST-MODIFIED:20230805T193110Z
UID:14822-1692518400-1692547200@radktm.co.za
SUMMARY:#RAD Breakfast Run
DESCRIPTION:𝐽𝑜𝑖𝑛 𝑢𝑠 𝑓𝑜𝑟 𝑎 #𝑅𝐴𝐷 𝐵𝑟𝑒𝑎𝑘𝑓𝑎𝑠𝑡 𝑅𝑢𝑛 \n\n𝗗𝗮𝘁𝗲 : Sunday\, 20 August 2023\n𝗠𝗲𝗲𝘁: RAD_KTM (C/O Rivonia & Witkoppen) @8AM\n𝗥𝗼𝘂𝘁𝗲: Round Trip looping Harties\n𝗙𝗶𝗻𝗮𝗹 𝗗𝗲𝘀𝘁𝗶𝗻𝗮𝘁𝗶𝗼𝗻: Scrooge Sports & Grill (C/O John Voster & Christiaan de Wet)\n𝗦𝗰𝗵𝗲𝗱𝘂𝗹𝗲: MotoGP3 @ 11AM / MotoGP2 @ 12PM / MotoGP @ 2PM \nPlease RSVP @ 078 097 4964\nThe first 20 RSVP’d/Registered riders will be entered into a draw to win a Brad Binder Cap.
URL:https://radktm.co.za/event/rad-breakfast-run-2/
CATEGORIES:Breakfast Run,Social Ride
ATTACH;FMTTYPE=image/png:https://radktm.co.za/wp-content/uploads/2023/08/20230820_-RAD_-Breakfast-Run-Event.png
END:VEVENT
END:VCALENDAR