BEGIN:VCALENDAR
VERSION:2.0
PRODID:-//RAD_KTM - ECPv6.10.0//NONSGML v1.0//EN
CALSCALE:GREGORIAN
METHOD:PUBLISH
X-ORIGINAL-URL:https://radktm.co.za
X-WR-CALDESC:Events for RAD_KTM
REFRESH-INTERVAL;VALUE=DURATION:PT1H
X-Robots-Tag:noindex
X-PUBLISHED-TTL:PT1H
BEGIN:VTIMEZONE
TZID:Africa/Johannesburg
BEGIN:STANDARD
TZOFFSETFROM:+0200
TZOFFSETTO:+0200
TZNAME:SAST
DTSTART:20230101T000000
END:STANDARD
END:VTIMEZONE
BEGIN:VEVENT
DTSTART;TZID=Africa/Johannesburg:20231001T080000
DTEND;TZID=Africa/Johannesburg:20231001T120000
DTSTAMP:20260422T084440
CREATED:20230912T111757Z
LAST-MODIFIED:20230912T111757Z
UID:15034-1696147200-1696161600@radktm.co.za
SUMMARY:#RAD Ladies Breakfast Run
DESCRIPTION:Hey\, ladies! Do you ever feel like you need a break from the daily grind of work\, family\, and other obligations?\nDo you ever wish you could just hang out with your gal pals and enjoy some fresh air\, delicious food\, and good vibes? \n\n\n\nThat’s why we’re inviting you to join RAD KTM & She Rides Bikes for a 𝒍𝒂𝒅𝒊𝒆𝒔-𝒐𝒏𝒍𝒚 breakfast run to the lovely Busstop7 Open air market .\nIt’s a scenic route that will take you through some of the most beautiful landscapes in the area. \nFor more info contac: 078 097 4964
URL:https://radktm.co.za/event/rad-ladies-breakfast-run/
CATEGORIES:Breakfast Run
ATTACH;FMTTYPE=image/jpeg:https://radktm.co.za/wp-content/uploads/2023/09/RAD_-FB-2023-001-scaled.jpg
END:VEVENT
END:VCALENDAR