BEGIN:VCALENDAR
VERSION:2.0
PRODID:-//RAD_KTM - ECPv6.10.0//NONSGML v1.0//EN
CALSCALE:GREGORIAN
METHOD:PUBLISH
X-ORIGINAL-URL:https://radktm.co.za
X-WR-CALDESC:Events for RAD_KTM
REFRESH-INTERVAL;VALUE=DURATION:PT1H
X-Robots-Tag:noindex
X-PUBLISHED-TTL:PT1H
BEGIN:VTIMEZONE
TZID:Africa/Johannesburg
BEGIN:STANDARD
TZOFFSETFROM:+0200
TZOFFSETTO:+0200
TZNAME:SAST
DTSTART:20240101T000000
END:STANDARD
END:VTIMEZONE
BEGIN:VEVENT
DTSTART;TZID=Africa/Johannesburg:20240630T080000
DTEND;TZID=Africa/Johannesburg:20240630T120000
DTSTAMP:20260421T200131
CREATED:20240613T175236Z
LAST-MODIFIED:20240627T090617Z
UID:15696-1719734400-1719748800@radktm.co.za
SUMMARY:#RAD Breakfast Run
DESCRIPTION:𝐽𝑜𝑖𝑛 𝑢𝑠 𝑓𝑜𝑟 𝑎 #𝑅𝐴𝐷 𝐵𝑟𝑒𝑎𝑘𝑓𝑎𝑠𝑡 𝑅𝑢𝑛𝗗𝗮𝘁𝗲 : Sunday\, 30 June 2024𝗠𝗲𝗲𝘁: RAD_KTM (C/O Rivonia & Witkoppen)@ 8 AM𝗙𝗶𝗻𝗮𝗹 𝗗𝗲𝘀𝘁𝗶𝗻𝗮𝘁𝗶𝗼𝗻: Cowboy Town\, KrugersdorpRiders Brief on morning of the ride. \n\nALL MOTORCYCLES WELCOME!!\n***𝗟𝗜𝗠𝗜𝗧𝗘𝗗 𝗦𝗣𝗔𝗖𝗘 𝗔𝗩𝗔𝗜𝗟𝗔𝗕𝗟𝗘***Please RSVP @ 078 097 4964
URL:https://radktm.co.za/event/rad-breakfast-run/
LOCATION:Fangio’s Restaurant\, Midrand
CATEGORIES:Breakfast Run,Social Ride
ATTACH;FMTTYPE=image/png:https://radktm.co.za/wp-content/uploads/2024/06/20240630_-RAD_-Breakfast-Run_-Poster.png
END:VEVENT
END:VCALENDAR