BEGIN:VCALENDAR
VERSION:2.0
PRODID:-//RAD_KTM - ECPv6.10.0//NONSGML v1.0//EN
CALSCALE:GREGORIAN
METHOD:PUBLISH
X-ORIGINAL-URL:https://radktm.co.za
X-WR-CALDESC:Events for RAD_KTM
REFRESH-INTERVAL;VALUE=DURATION:PT1H
X-Robots-Tag:noindex
X-PUBLISHED-TTL:PT1H
BEGIN:VTIMEZONE
TZID:Africa/Johannesburg
BEGIN:STANDARD
TZOFFSETFROM:+0200
TZOFFSETTO:+0200
TZNAME:SAST
DTSTART:20240101T000000
END:STANDARD
END:VTIMEZONE
BEGIN:VEVENT
DTSTART;TZID=Africa/Johannesburg:20241103T073000
DTEND;TZID=Africa/Johannesburg:20241103T120000
DTSTAMP:20260423T065739
CREATED:20241004T095451Z
LAST-MODIFIED:20241004T095546Z
UID:16021-1730619000-1730635200@radktm.co.za
SUMMARY:#RAD Breakfast Run
DESCRIPTION:The #𝗥𝗔𝗗 𝗕𝗿𝗲𝗮𝗸𝗳𝗮𝘀𝘁 𝗥𝘂𝗻 promises to be an exhilarating gathering for those passionate about motorcycles.\nIt’s not just a ride; it’s a chance to forge new friendships\, feel the energizing morning air\, and perhaps even experience the thrill of a new bike.\nThis event is a celebration of the spirit of adventure that unites all riders. So\, make sure to confirm your attendance and be part of a day that’s all about the joy of riding and community.\n𝗗𝗮𝘁𝗲 : Sunday\, 3 November 2024Meet us at RAD_KTM @ 7:30AM . Ride @ 8AM𝗩𝗲𝗻𝘂𝗲 : Mulligans Pub & Restaurant\n\nALL MOTORCYCLES WELCOME!!Please RSVP @ 078 097 4964 \n\n#rad #radktm #breakfast #outdoors #socialsunday #sundays #bikes #adventure #bikers #mulligans \nLet us know if you’re going to make it!\nhttps://web.facebook.com/share/MjaiWbuJ3wNPguhH/
URL:https://radktm.co.za/event/rad-breakfast-run-6/
LOCATION:Mulligans Restaurant\, R560\, Mount Amanzi Road\, Hartebeespoort Dam\, Gauteng\, 0257\, South Africa
CATEGORIES:Breakfast Run,Social Ride
ATTACH;FMTTYPE=image/png:https://radktm.co.za/wp-content/uploads/2024/10/20241103_-RAD_-Breakfast-Run_-Poster.png
END:VEVENT
BEGIN:VEVENT
DTSTART;TZID=Africa/Johannesburg:20241208T070000
DTEND;TZID=Africa/Johannesburg:20241208T120000
DTSTAMP:20260423T065739
CREATED:20250117T074039Z
LAST-MODIFIED:20250117T074039Z
UID:16802-1733641200-1733659200@radktm.co.za
SUMMARY:#RAD Brunch Run
DESCRIPTION:Rev up your engines for the ultimate #𝗥𝗔𝗗 𝗕𝗿𝗲𝗮𝗸𝗳𝗮𝘀𝘁 𝗥𝘂𝗻\,the final ride of 2024 is set to be a memorable one.\nWith the open road calling\, it’s an opportunity to connect with fellow motorcycle enthusiasts\, share stories\, and create lasting bonds over the love of two wheels. Embrace the freedom of the ride\, the camaraderie of the community\, and the shared passion for adventure. \n\nRemember to mark your calendars and join the convoy at RAD_KTM for a day that celebrates the essence of biking.𝗗𝗮𝘁𝗲 : Sunday\, 8 December 2024Meet us at RAD_KTM @ 7AM . Ride @ 7:30AM\n𝗞𝗲𝘆 𝗥𝗼𝘂𝘁𝗲 & 𝗦𝘁𝗼𝗽𝘀: Total Distance: 390 km From RAD_KTM merge onto N1 Western Bypass. Transition to N3 Eastern Bypass. Continue on N12. Follow signs for R59 toward Alberton/Vereeniging. Stop 1: Midvaal – Merge onto R54. Stop 2: Along R549 – Turn onto R82. Stop 3: Along R82 – Continue via R720 to Parys. 𝗙𝗶𝗻𝗮𝗹 𝗗𝗲𝘀𝘁𝗶𝗻𝗮𝘁𝗶𝗼𝗻: Plum Tree\, ParysVarious menu options available\, please WhatsApp 078 097 4964. \n\nLet’s make it a ride to remember!ALL MOTORCYCLES WELCOME!!\n𝗥𝗦𝗩𝗣 𝗘𝘀𝘀𝗲𝗻𝘁𝗶𝗮𝗹 @ 𝟬𝟳𝟴 𝟬𝟵𝟳 𝟰𝟵𝟲𝟰 \n\n#rad #radktm #breakfast #brunch #outdoors #socialsunday #sundays #bikes #adventure #bikers #parys #2024bikes
URL:https://radktm.co.za/event/rad-brunch-run/
LOCATION:Plum Tree\, Parys
CATEGORIES:Breakfast Run
ATTACH;FMTTYPE=image/png:https://radktm.co.za/wp-content/uploads/2025/01/20241208_-RAD_-Brunch-Run-Poster-002.png
END:VEVENT
BEGIN:VEVENT
DTSTART;TZID=Africa/Johannesburg:20250126T070000
DTEND;TZID=Africa/Johannesburg:20250126T120000
DTSTAMP:20260423T065739
CREATED:20250117T073420Z
LAST-MODIFIED:20250117T073420Z
UID:16798-1737874800-1737892800@radktm.co.za
SUMMARY:#RAD Breakfast Run
DESCRIPTION:Get ready for an adrenaline-packed morning at the #𝗥𝗔𝗗 𝗕𝗿𝗲𝗮𝗸𝗳𝗮𝘀𝘁 𝗥𝘂𝗻! This isn’t just any ride—it’s your chance to meet fellow riders\, breathe in the crisp morning air\, and maybe even check out a new bike.\nJoin us in celebrating the spirit of adventure that brings us all together. Confirm your attendance and be part of a memorable day filled with the joy of riding and community vibes. \n\n Date: Sunday\, 26 January 2025 Meet: RAD_KTM @ 7AM Ride: 7:30AM Venue: Sage & Smoke\, Magaliesburg \n\nALL MOTORCYCLES WELCOME!!Please RSVP @ 078 097 4964 \n\n#rad #radktm #breakfast #outdoors #socialsunday #sundays #bikes #adventure #bikers #magalies\nLet’s make this an epic ride! 
URL:https://radktm.co.za/event/rad-breakfast-run-7/
LOCATION:Sage & Smoke\, Magaliesburg
CATEGORIES:Breakfast Run
ATTACH;FMTTYPE=image/png:https://radktm.co.za/wp-content/uploads/2025/01/20250126_-RAD-Breakfast-Run-Poster.png
ORGANIZER;CN="RAD_KTM":MAILTO:marketing@radmoto.co.za
END:VEVENT
BEGIN:VEVENT
DTSTART;TZID=Africa/Johannesburg:20250223T070000
DTEND;TZID=Africa/Johannesburg:20250223T120000
DTSTAMP:20260423T065739
CREATED:20250202T204244Z
LAST-MODIFIED:20250212T085800Z
UID:16878-1740294000-1740312000@radktm.co.za
SUMMARY:#RAD Breakfast Run
DESCRIPTION:🌟 Don’t Miss the #𝗥𝗔𝗗 𝗕𝗿𝗲𝗮𝗸𝗳𝗮𝘀𝘁 𝗥𝘂𝗻! 🌟 \nGear up for an adrenaline-filled morning ride!\nThis isn’t just any ride—it’s your chance to meet fellow riders\, enjoy the crisp morning air\, and maybe even check out a new bike. \nCelebrate the spirit of adventure with us. Confirm your attendance and be part of a memorable day filled with the joy of riding and community vibes. \n📅 Date: Sunday\, 23 February 2025\n🕖 Meet: RAD_KTM @ 7AM\n🏍️ Ride: 7:30AM\n📍 Venue: Barbados Bar & Grill\, Hartbeespoort \nALL MOTORCYCLES WELCOME!! RSVP @ 078 097 4964 \n#rad #radktm #breakfast #outdoors #socialsunday #sundays #bikes #adventure #bikers \nLet’s make this an epic ride! 🚀🏍️💨
URL:https://radktm.co.za/event/rad-breakfast-run-8/
LOCATION:Barbados Bar & Grill\, 2 Scott Street\, Schoemansville\, Hartbeespoort\, Gauteng\, 0216\, South Africa
CATEGORIES:Breakfast Run,Social Ride
ATTACH;FMTTYPE=image/png:https://radktm.co.za/wp-content/uploads/2025/02/20250223_-RAD_-Breakfast-Run-1.png
ORGANIZER;CN="RAD_KTM":MAILTO:marketing@radmoto.co.za
END:VEVENT
END:VCALENDAR